BEGIN:VCALENDAR
VERSION:2.0
PRODID:-//Walnut Hills Baptist Church - ECPv6.15.20//NONSGML v1.0//EN
CALSCALE:GREGORIAN
METHOD:PUBLISH
X-WR-CALNAME:Walnut Hills Baptist Church
X-ORIGINAL-URL:https://whbconline.org
X-WR-CALDESC:Events for Walnut Hills Baptist Church
REFRESH-INTERVAL;VALUE=DURATION:PT1H
X-Robots-Tag:noindex
X-PUBLISHED-TTL:PT1H
BEGIN:VTIMEZONE
TZID:America/New_York
BEGIN:DAYLIGHT
TZOFFSETFROM:-0500
TZOFFSETTO:-0400
TZNAME:EDT
DTSTART:20250309T070000
END:DAYLIGHT
BEGIN:STANDARD
TZOFFSETFROM:-0400
TZOFFSETTO:-0500
TZNAME:EST
DTSTART:20251102T060000
END:STANDARD
BEGIN:DAYLIGHT
TZOFFSETFROM:-0500
TZOFFSETTO:-0400
TZNAME:EDT
DTSTART:20260308T070000
END:DAYLIGHT
BEGIN:STANDARD
TZOFFSETFROM:-0400
TZOFFSETTO:-0500
TZNAME:EST
DTSTART:20261101T060000
END:STANDARD
BEGIN:DAYLIGHT
TZOFFSETFROM:-0500
TZOFFSETTO:-0400
TZNAME:EDT
DTSTART:20270314T070000
END:DAYLIGHT
BEGIN:STANDARD
TZOFFSETFROM:-0400
TZOFFSETTO:-0500
TZNAME:EST
DTSTART:20271107T060000
END:STANDARD
END:VTIMEZONE
BEGIN:VEVENT
DTSTART;TZID=America/New_York:20260624T090000
DTEND;TZID=America/New_York:20260624T100000
DTSTAMP:20260422T040207
CREATED:20220729T172915Z
LAST-MODIFIED:20251126T175806Z
UID:10000790-1782291600-1782295200@whbconline.org
SUMMARY:Pete Fowler Men's Prayer Meeting
DESCRIPTION:Meeting in the Agape classroom.
URL:https://whbconline.org/event/pete-fowler-mens-prayer-meeting/2026-06-24/
CATEGORIES:Community
END:VEVENT
BEGIN:VEVENT
DTSTART;TZID=America/New_York:20260624T184500
DTEND;TZID=America/New_York:20260624T200000
DTSTAMP:20260422T040207
CREATED:20250828T214904Z
LAST-MODIFIED:20251231T212009Z
UID:10010485-1782326700-1782331200@whbconline.org
SUMMARY:Adult Choir
DESCRIPTION:
URL:https://whbconline.org/event/adult-choir/2026-06-24/
CATEGORIES:Adult Choir
END:VEVENT
END:VCALENDAR