BEGIN:VCALENDAR
VERSION:2.0
PRODID:-//Walnut Hills Baptist Church - ECPv6.15.20//NONSGML v1.0//EN
CALSCALE:GREGORIAN
METHOD:PUBLISH
X-ORIGINAL-URL:https://whbconline.org
X-WR-CALDESC:Events for Walnut Hills Baptist Church
REFRESH-INTERVAL;VALUE=DURATION:PT1H
X-Robots-Tag:noindex
X-PUBLISHED-TTL:PT1H
BEGIN:VTIMEZONE
TZID:America/New_York
BEGIN:DAYLIGHT
TZOFFSETFROM:-0500
TZOFFSETTO:-0400
TZNAME:EDT
DTSTART:20260308T070000
END:DAYLIGHT
BEGIN:STANDARD
TZOFFSETFROM:-0400
TZOFFSETTO:-0500
TZNAME:EST
DTSTART:20261101T060000
END:STANDARD
BEGIN:DAYLIGHT
TZOFFSETFROM:-0500
TZOFFSETTO:-0400
TZNAME:EDT
DTSTART:20270314T070000
END:DAYLIGHT
BEGIN:STANDARD
TZOFFSETFROM:-0400
TZOFFSETTO:-0500
TZNAME:EST
DTSTART:20271107T060000
END:STANDARD
BEGIN:DAYLIGHT
TZOFFSETFROM:-0500
TZOFFSETTO:-0400
TZNAME:EDT
DTSTART:20280312T070000
END:DAYLIGHT
BEGIN:STANDARD
TZOFFSETFROM:-0400
TZOFFSETTO:-0500
TZNAME:EST
DTSTART:20281105T060000
END:STANDARD
END:VTIMEZONE
BEGIN:VEVENT
DTSTART;TZID=America/New_York:20270411T091500
DTEND;TZID=America/New_York:20270411T101500
DTSTAMP:20260425T000500
CREATED:20220512T213410Z
LAST-MODIFIED:20220512T213410Z
UID:10001962-1807434900-1807438500@whbconline.org
SUMMARY:Adult Bible Study & Sunday School
DESCRIPTION:Please see the Prayer List for class information.
URL:https://whbconline.org/event/adult-bible-study-sunday-school/2027-04-11/
END:VEVENT
BEGIN:VEVENT
DTSTART;TZID=America/New_York:20270411T103000
DTEND;TZID=America/New_York:20270411T113000
DTSTAMP:20260425T000500
CREATED:20220512T212851Z
LAST-MODIFIED:20220512T212851Z
UID:10001151-1807439400-1807443000@whbconline.org
SUMMARY:Sunday Worship
DESCRIPTION:
URL:https://whbconline.org/event/sunday-worship/2027-04-11/
CATEGORIES:Church Wide
END:VEVENT
BEGIN:VEVENT
DTSTART;TZID=America/New_York:20270411T114500
DTEND;TZID=America/New_York:20270411T133000
DTSTAMP:20260425T000500
CREATED:20260402T195245Z
LAST-MODIFIED:20260402T195246Z
UID:10011027-1807443900-1807450200@whbconline.org
SUMMARY:Deacon's Meeting
DESCRIPTION:Agape classroom\, led by David Gehr\, Chair
URL:https://whbconline.org/event/deacons-meeting-4-2-2/2027-04-11/
CATEGORIES:Deacons
END:VEVENT
END:VCALENDAR