BEGIN:VCALENDAR
VERSION:2.0
PRODID:-//Walnut Hills Baptist Church - ECPv6.15.20//NONSGML v1.0//EN
CALSCALE:GREGORIAN
METHOD:PUBLISH
X-WR-CALNAME:Walnut Hills Baptist Church
X-ORIGINAL-URL:https://whbconline.org
X-WR-CALDESC:Events for Walnut Hills Baptist Church
REFRESH-INTERVAL;VALUE=DURATION:PT1H
X-Robots-Tag:noindex
X-PUBLISHED-TTL:PT1H
BEGIN:VTIMEZONE
TZID:America/New_York
BEGIN:DAYLIGHT
TZOFFSETFROM:-0500
TZOFFSETTO:-0400
TZNAME:EDT
DTSTART:20240310T070000
END:DAYLIGHT
BEGIN:STANDARD
TZOFFSETFROM:-0400
TZOFFSETTO:-0500
TZNAME:EST
DTSTART:20241103T060000
END:STANDARD
BEGIN:DAYLIGHT
TZOFFSETFROM:-0500
TZOFFSETTO:-0400
TZNAME:EDT
DTSTART:20250309T070000
END:DAYLIGHT
BEGIN:STANDARD
TZOFFSETFROM:-0400
TZOFFSETTO:-0500
TZNAME:EST
DTSTART:20251102T060000
END:STANDARD
BEGIN:DAYLIGHT
TZOFFSETFROM:-0500
TZOFFSETTO:-0400
TZNAME:EDT
DTSTART:20260308T070000
END:DAYLIGHT
BEGIN:STANDARD
TZOFFSETFROM:-0400
TZOFFSETTO:-0500
TZNAME:EST
DTSTART:20261101T060000
END:STANDARD
END:VTIMEZONE
BEGIN:VEVENT
DTSTART;TZID=America/New_York:20251104T093000
DTEND;TZID=America/New_York:20251104T113000
DTSTAMP:20260416T212213
CREATED:20250828T213425Z
LAST-MODIFIED:20260402T200332Z
UID:10009723-1762248600-1762255800@whbconline.org
SUMMARY:Women at the Well
DESCRIPTION:Women’s Bible study\, meet during the school year in the Agape classroom.
URL:https://whbconline.org/event/women-at-the-well-7/2025-11-04/
CATEGORIES:Church Wide,Women of the church
END:VEVENT
BEGIN:VEVENT
DTSTART;TZID=America/New_York:20251105T103000
DTEND;TZID=America/New_York:20251105T120000
DTSTAMP:20260416T212213
CREATED:20251023T193750Z
LAST-MODIFIED:20251023T193751Z
UID:10009801-1762338600-1762344000@whbconline.org
SUMMARY:No Women's Bible Study
DESCRIPTION:On hold for now – please check with the church office\, week to week\, as to whether the meeting will occur. \nNormally\, meet each Wednesday morning during the school year by Zoom.
URL:https://whbconline.org/event/womens-bible-study-4-4/
CATEGORIES:Bible Study,Women of the church
END:VEVENT
BEGIN:VEVENT
DTSTART;TZID=America/New_York:20251111T093000
DTEND;TZID=America/New_York:20251111T113000
DTSTAMP:20260416T212213
CREATED:20250828T213425Z
LAST-MODIFIED:20260402T200332Z
UID:10009724-1762853400-1762860600@whbconline.org
SUMMARY:Women at the Well
DESCRIPTION:Women’s Bible study\, meet during the school year in the Agape classroom.
URL:https://whbconline.org/event/women-at-the-well-7/2025-11-11/
CATEGORIES:Church Wide,Women of the church
END:VEVENT
BEGIN:VEVENT
DTSTART;TZID=America/New_York:20251111T133000
DTEND;TZID=America/New_York:20251111T153000
DTSTAMP:20260416T212213
CREATED:20251023T194504Z
LAST-MODIFIED:20251023T194504Z
UID:10010716-1762867800-1762875000@whbconline.org
SUMMARY:Combined WOM Group Meeting
DESCRIPTION:Hospitality Center \nAll women of the church are invited.  Guest speaker from FISH.
URL:https://whbconline.org/event/combined-wom-group-meeting/
CATEGORIES:Women of the church,Women On Mission
END:VEVENT
BEGIN:VEVENT
DTSTART;TZID=America/New_York:20251112T103000
DTEND;TZID=America/New_York:20251112T120000
DTSTAMP:20260416T212213
CREATED:20251023T195105Z
LAST-MODIFIED:20251023T195106Z
UID:10009802-1762943400-1762948800@whbconline.org
SUMMARY:No Women's Bible Study
DESCRIPTION:On hold for now – please check with the church office\, week to week\, as to whether the meeting will occur. \nNormally\, meet each Wednesday morning during the school year by Zoom.
URL:https://whbconline.org/event/womens-bible-study-4-5/
CATEGORIES:Bible Study,Women of the church
END:VEVENT
BEGIN:VEVENT
DTSTART;TZID=America/New_York:20251118T093000
DTEND;TZID=America/New_York:20251118T113000
DTSTAMP:20260416T212213
CREATED:20250828T213425Z
LAST-MODIFIED:20260402T200332Z
UID:10009725-1763458200-1763465400@whbconline.org
SUMMARY:Women at the Well
DESCRIPTION:Women’s Bible study\, meet during the school year in the Agape classroom.
URL:https://whbconline.org/event/women-at-the-well-7/2025-11-18/
CATEGORIES:Church Wide,Women of the church
END:VEVENT
BEGIN:VEVENT
DTSTART;TZID=America/New_York:20251119T103000
DTEND;TZID=America/New_York:20251119T120000
DTSTAMP:20260416T212213
CREATED:20250828T214446Z
LAST-MODIFIED:20251126T183524Z
UID:10009803-1763548200-1763553600@whbconline.org
SUMMARY:Women's Bible Study
DESCRIPTION:Normally\, meet each Wednesday morning during the school year by Zoom.
URL:https://whbconline.org/event/womens-bible-study-4/2025-11-19/
CATEGORIES:Bible Study,Women of the church
END:VEVENT
END:VCALENDAR