BEGIN:VCALENDAR
VERSION:2.0
PRODID:-//Walnut Hills Baptist Church - ECPv6.15.20//NONSGML v1.0//EN
CALSCALE:GREGORIAN
METHOD:PUBLISH
X-ORIGINAL-URL:https://whbconline.org
X-WR-CALDESC:Events for Walnut Hills Baptist Church
REFRESH-INTERVAL;VALUE=DURATION:PT1H
X-Robots-Tag:noindex
X-PUBLISHED-TTL:PT1H
BEGIN:VTIMEZONE
TZID:America/New_York
BEGIN:DAYLIGHT
TZOFFSETFROM:-0500
TZOFFSETTO:-0400
TZNAME:EDT
DTSTART:20260308T070000
END:DAYLIGHT
BEGIN:STANDARD
TZOFFSETFROM:-0400
TZOFFSETTO:-0500
TZNAME:EST
DTSTART:20261101T060000
END:STANDARD
BEGIN:DAYLIGHT
TZOFFSETFROM:-0500
TZOFFSETTO:-0400
TZNAME:EDT
DTSTART:20270314T070000
END:DAYLIGHT
BEGIN:STANDARD
TZOFFSETFROM:-0400
TZOFFSETTO:-0500
TZNAME:EST
DTSTART:20271107T060000
END:STANDARD
BEGIN:DAYLIGHT
TZOFFSETFROM:-0500
TZOFFSETTO:-0400
TZNAME:EDT
DTSTART:20280312T070000
END:DAYLIGHT
BEGIN:STANDARD
TZOFFSETFROM:-0400
TZOFFSETTO:-0500
TZNAME:EST
DTSTART:20281105T060000
END:STANDARD
END:VTIMEZONE
BEGIN:VEVENT
DTSTART;TZID=America/New_York:20270421T090000
DTEND;TZID=America/New_York:20270421T100000
DTSTAMP:20260424T210919
CREATED:20220729T172915Z
LAST-MODIFIED:20251126T175806Z
UID:10000833-1808298000-1808301600@whbconline.org
SUMMARY:Pete Fowler Men's Prayer Meeting
DESCRIPTION:Meeting in the Agape classroom.
URL:https://whbconline.org/event/pete-fowler-mens-prayer-meeting/2027-04-21/
CATEGORIES:Community
END:VEVENT
BEGIN:VEVENT
DTSTART;TZID=America/New_York:20270421T184500
DTEND;TZID=America/New_York:20270421T200000
DTSTAMP:20260424T210919
CREATED:20250828T214904Z
LAST-MODIFIED:20251231T212009Z
UID:10010528-1808333100-1808337600@whbconline.org
SUMMARY:Adult Choir
DESCRIPTION:
URL:https://whbconline.org/event/adult-choir/2027-04-21/
CATEGORIES:Adult Choir
END:VEVENT
BEGIN:VEVENT
DTSTART;TZID=America/New_York:20270422T093000
DTEND;TZID=America/New_York:20270422T110000
DTSTAMP:20260424T210919
CREATED:20250828T212558Z
LAST-MODIFIED:20251216T214537Z
UID:10009460-1808386200-1808391600@whbconline.org
SUMMARY:Thursday Coffee Connection
DESCRIPTION:Meet with Pastor Jim at Panera Bread\, New Town
URL:https://whbconline.org/event/thursday-coffee-connection/2027-04-22/
CATEGORIES:Church Wide
END:VEVENT
BEGIN:VEVENT
DTSTART;TZID=America/New_York:20270425T091500
DTEND;TZID=America/New_York:20270425T101500
DTSTAMP:20260424T210919
CREATED:20220512T213410Z
LAST-MODIFIED:20220512T213410Z
UID:10001964-1808644500-1808648100@whbconline.org
SUMMARY:Adult Bible Study & Sunday School
DESCRIPTION:Please see the Prayer List for class information.
URL:https://whbconline.org/event/adult-bible-study-sunday-school/2027-04-25/
END:VEVENT
BEGIN:VEVENT
DTSTART;TZID=America/New_York:20270425T103000
DTEND;TZID=America/New_York:20270425T113000
DTSTAMP:20260424T210919
CREATED:20220512T212851Z
LAST-MODIFIED:20220512T212851Z
UID:10001153-1808649000-1808652600@whbconline.org
SUMMARY:Sunday Worship
DESCRIPTION:
URL:https://whbconline.org/event/sunday-worship/2027-04-25/
CATEGORIES:Church Wide
END:VEVENT
BEGIN:VEVENT
DTSTART;TZID=America/New_York:20270425T114500
DTEND;TZID=America/New_York:20270425T133000
DTSTAMP:20260424T210919
CREATED:20250206T205206Z
LAST-MODIFIED:20260319T184057Z
UID:10008838-1808653500-1808659800@whbconline.org
SUMMARY:B&G meeting
DESCRIPTION:Meeting in the Choir room.
URL:https://whbconline.org/event/deacons-meeting-3-2-2/2027-04-25/
CATEGORIES:Committees
END:VEVENT
BEGIN:VEVENT
DTSTART;TZID=America/New_York:20270427T170000
DTEND;TZID=America/New_York:20270427T180000
DTSTAMP:20260424T210919
CREATED:20231228T210202Z
LAST-MODIFIED:20260319T183940Z
UID:10004285-1808845200-1808848800@whbconline.org
SUMMARY:Handbell Choir rehearsal
DESCRIPTION:We rehearse at 5pm each Tuesday
URL:https://whbconline.org/event/handbell-choir-rehearsal-2-4/2027-04-27/
CATEGORIES:Church Wide,Worship
END:VEVENT
BEGIN:VEVENT
DTSTART;TZID=America/New_York:20270428T090000
DTEND;TZID=America/New_York:20270428T100000
DTSTAMP:20260424T210919
CREATED:20220729T172915Z
LAST-MODIFIED:20251126T175806Z
UID:10000834-1808902800-1808906400@whbconline.org
SUMMARY:Pete Fowler Men's Prayer Meeting
DESCRIPTION:Meeting in the Agape classroom.
URL:https://whbconline.org/event/pete-fowler-mens-prayer-meeting/2027-04-28/
CATEGORIES:Community
END:VEVENT
BEGIN:VEVENT
DTSTART;TZID=America/New_York:20270428T180000
DTEND;TZID=America/New_York:20270428T193000
DTSTAMP:20260424T210919
CREATED:20260402T202154Z
LAST-MODIFIED:20260402T202154Z
UID:10011089-1808935200-1808940600@whbconline.org
SUMMARY:Quarterly Business Meeting
DESCRIPTION:Report packets will be on the entrance tables as well as by email.
URL:https://whbconline.org/event/quarterly-business-meeting-6/2027-04-28/
CATEGORIES:Church Wide
END:VEVENT
BEGIN:VEVENT
DTSTART;TZID=America/New_York:20270428T184500
DTEND;TZID=America/New_York:20270428T200000
DTSTAMP:20260424T210919
CREATED:20250828T214904Z
LAST-MODIFIED:20251231T212009Z
UID:10010529-1808937900-1808942400@whbconline.org
SUMMARY:Adult Choir
DESCRIPTION:
URL:https://whbconline.org/event/adult-choir/2027-04-28/
CATEGORIES:Adult Choir
END:VEVENT
BEGIN:VEVENT
DTSTART;TZID=America/New_York:20270429T093000
DTEND;TZID=America/New_York:20270429T110000
DTSTAMP:20260424T210919
CREATED:20250828T212558Z
LAST-MODIFIED:20251216T214537Z
UID:10009461-1808991000-1808996400@whbconline.org
SUMMARY:Thursday Coffee Connection
DESCRIPTION:Meet with Pastor Jim at Panera Bread\, New Town
URL:https://whbconline.org/event/thursday-coffee-connection/2027-04-29/
CATEGORIES:Church Wide
END:VEVENT
BEGIN:VEVENT
DTSTART;VALUE=DATE:20270502
DTEND;VALUE=DATE:20270503
DTSTAMP:20260424T210919
CREATED:20230629T185638Z
LAST-MODIFIED:20230629T185711Z
UID:10003740-1809216000-1809302399@whbconline.org
SUMMARY:First Sunday Food Collection
DESCRIPTION:The Pete Fowler Wednesday Men’s Prayer Group is sponsoring a First Sunday food drive to be donated to the Salvation Army Food Pantry.  A collection box will     be placed in the foyer of the church on the first Sunday of each month for donations of non-perishable food items.  For more information\, please contact Carl Bass. \n— Missions & Evangelism Council \n 
URL:https://whbconline.org/event/first-sunday-food-collection/2027-05-02/
CATEGORIES:Church Wide
END:VEVENT
BEGIN:VEVENT
DTSTART;TZID=America/New_York:20270502T091500
DTEND;TZID=America/New_York:20270502T101500
DTSTAMP:20260424T210919
CREATED:20220512T213410Z
LAST-MODIFIED:20220512T213410Z
UID:10001965-1809249300-1809252900@whbconline.org
SUMMARY:Adult Bible Study & Sunday School
DESCRIPTION:Please see the Prayer List for class information.
URL:https://whbconline.org/event/adult-bible-study-sunday-school/2027-05-02/
END:VEVENT
BEGIN:VEVENT
DTSTART;TZID=America/New_York:20270502T103000
DTEND;TZID=America/New_York:20270502T113000
DTSTAMP:20260424T210919
CREATED:20220512T212851Z
LAST-MODIFIED:20220512T212851Z
UID:10001154-1809253800-1809257400@whbconline.org
SUMMARY:Sunday Worship
DESCRIPTION:
URL:https://whbconline.org/event/sunday-worship/2027-05-02/
CATEGORIES:Church Wide
END:VEVENT
BEGIN:VEVENT
DTSTART;TZID=America/New_York:20270502T103000
DTEND;TZID=America/New_York:20270502T113000
DTSTAMP:20260424T210919
CREATED:20231130T210450Z
LAST-MODIFIED:20251126T181446Z
UID:10001646-1809253800-1809257400@whbconline.org
SUMMARY:Communion
DESCRIPTION:
URL:https://whbconline.org/event/communion-2/2027-05-02/
CATEGORIES:Worship
END:VEVENT
BEGIN:VEVENT
DTSTART;TZID=America/New_York:20270504T170000
DTEND;TZID=America/New_York:20270504T180000
DTSTAMP:20260424T210919
CREATED:20231228T210202Z
LAST-MODIFIED:20260319T183940Z
UID:10004286-1809450000-1809453600@whbconline.org
SUMMARY:Handbell Choir rehearsal
DESCRIPTION:We rehearse at 5pm each Tuesday
URL:https://whbconline.org/event/handbell-choir-rehearsal-2-4/2027-05-04/
CATEGORIES:Church Wide,Worship
END:VEVENT
BEGIN:VEVENT
DTSTART;TZID=America/New_York:20270505T090000
DTEND;TZID=America/New_York:20270505T100000
DTSTAMP:20260424T210919
CREATED:20220729T172915Z
LAST-MODIFIED:20251126T175806Z
UID:10000835-1809507600-1809511200@whbconline.org
SUMMARY:Pete Fowler Men's Prayer Meeting
DESCRIPTION:Meeting in the Agape classroom.
URL:https://whbconline.org/event/pete-fowler-mens-prayer-meeting/2027-05-05/
CATEGORIES:Community
END:VEVENT
BEGIN:VEVENT
DTSTART;TZID=America/New_York:20270505T184500
DTEND;TZID=America/New_York:20270505T200000
DTSTAMP:20260424T210919
CREATED:20250828T214904Z
LAST-MODIFIED:20251231T212009Z
UID:10010530-1809542700-1809547200@whbconline.org
SUMMARY:Adult Choir
DESCRIPTION:
URL:https://whbconline.org/event/adult-choir/2027-05-05/
CATEGORIES:Adult Choir
END:VEVENT
BEGIN:VEVENT
DTSTART;TZID=America/New_York:20270506T080000
DTEND;TZID=America/New_York:20270506T090000
DTSTAMP:20260424T210919
CREATED:20220729T173511Z
LAST-MODIFIED:20220826T170742Z
UID:10001272-1809590400-1809594000@whbconline.org
SUMMARY:Thur AM Men's Bible Study
DESCRIPTION:Meet by Zoom.
URL:https://whbconline.org/event/thur-am-mens-bible-study/2027-05-06/
CATEGORIES:Bible Study
END:VEVENT
BEGIN:VEVENT
DTSTART;TZID=America/New_York:20270506T093000
DTEND;TZID=America/New_York:20270506T110000
DTSTAMP:20260424T210919
CREATED:20250828T212558Z
LAST-MODIFIED:20251216T214537Z
UID:10009462-1809595800-1809601200@whbconline.org
SUMMARY:Thursday Coffee Connection
DESCRIPTION:Meet with Pastor Jim at Panera Bread\, New Town
URL:https://whbconline.org/event/thursday-coffee-connection/2027-05-06/
CATEGORIES:Church Wide
END:VEVENT
BEGIN:VEVENT
DTSTART;TZID=America/New_York:20270509T091500
DTEND;TZID=America/New_York:20270509T101500
DTSTAMP:20260424T210919
CREATED:20220512T213410Z
LAST-MODIFIED:20220512T213410Z
UID:10001966-1809854100-1809857700@whbconline.org
SUMMARY:Adult Bible Study & Sunday School
DESCRIPTION:Please see the Prayer List for class information.
URL:https://whbconline.org/event/adult-bible-study-sunday-school/2027-05-09/
END:VEVENT
BEGIN:VEVENT
DTSTART;TZID=America/New_York:20270509T103000
DTEND;TZID=America/New_York:20270509T113000
DTSTAMP:20260424T210919
CREATED:20220512T212851Z
LAST-MODIFIED:20220512T212851Z
UID:10001155-1809858600-1809862200@whbconline.org
SUMMARY:Sunday Worship
DESCRIPTION:
URL:https://whbconline.org/event/sunday-worship/2027-05-09/
CATEGORIES:Church Wide
END:VEVENT
BEGIN:VEVENT
DTSTART;TZID=America/New_York:20270509T114500
DTEND;TZID=America/New_York:20270509T133000
DTSTAMP:20260424T210919
CREATED:20260402T195245Z
LAST-MODIFIED:20260402T195246Z
UID:10011028-1809863100-1809869400@whbconline.org
SUMMARY:Deacon's Meeting
DESCRIPTION:Agape classroom\, led by David Gehr\, Chair
URL:https://whbconline.org/event/deacons-meeting-4-2-2/2027-05-09/
CATEGORIES:Deacons
END:VEVENT
BEGIN:VEVENT
DTSTART;TZID=America/New_York:20270511T170000
DTEND;TZID=America/New_York:20270511T180000
DTSTAMP:20260424T210919
CREATED:20231228T210202Z
LAST-MODIFIED:20260319T183940Z
UID:10004287-1810054800-1810058400@whbconline.org
SUMMARY:Handbell Choir rehearsal
DESCRIPTION:We rehearse at 5pm each Tuesday
URL:https://whbconline.org/event/handbell-choir-rehearsal-2-4/2027-05-11/
CATEGORIES:Church Wide,Worship
END:VEVENT
BEGIN:VEVENT
DTSTART;TZID=America/New_York:20270511T180000
DTEND;TZID=America/New_York:20270511T193000
DTSTAMP:20260424T210919
CREATED:20230803T192629Z
LAST-MODIFIED:20230803T192630Z
UID:10002784-1810058400-1810063800@whbconline.org
SUMMARY:Church Council meeting
DESCRIPTION:Meeting in the Agape classroom.
URL:https://whbconline.org/event/church-council-meeting-2/2027-05-11/
CATEGORIES:Church Leadership
END:VEVENT
BEGIN:VEVENT
DTSTART;TZID=America/New_York:20270512T090000
DTEND;TZID=America/New_York:20270512T100000
DTSTAMP:20260424T210919
CREATED:20220729T172915Z
LAST-MODIFIED:20251126T175806Z
UID:10000836-1810112400-1810116000@whbconline.org
SUMMARY:Pete Fowler Men's Prayer Meeting
DESCRIPTION:Meeting in the Agape classroom.
URL:https://whbconline.org/event/pete-fowler-mens-prayer-meeting/2027-05-12/
CATEGORIES:Community
END:VEVENT
BEGIN:VEVENT
DTSTART;TZID=America/New_York:20270512T184500
DTEND;TZID=America/New_York:20270512T200000
DTSTAMP:20260424T210919
CREATED:20250828T214904Z
LAST-MODIFIED:20251231T212009Z
UID:10010531-1810147500-1810152000@whbconline.org
SUMMARY:Adult Choir
DESCRIPTION:
URL:https://whbconline.org/event/adult-choir/2027-05-12/
CATEGORIES:Adult Choir
END:VEVENT
BEGIN:VEVENT
DTSTART;TZID=America/New_York:20270513T093000
DTEND;TZID=America/New_York:20270513T110000
DTSTAMP:20260424T210919
CREATED:20250828T212558Z
LAST-MODIFIED:20251216T214537Z
UID:10009463-1810200600-1810206000@whbconline.org
SUMMARY:Thursday Coffee Connection
DESCRIPTION:Meet with Pastor Jim at Panera Bread\, New Town
URL:https://whbconline.org/event/thursday-coffee-connection/2027-05-13/
CATEGORIES:Church Wide
END:VEVENT
BEGIN:VEVENT
DTSTART;TZID=America/New_York:20270513T190000
DTEND;TZID=America/New_York:20270513T200000
DTSTAMP:20260424T210919
CREATED:20220729T175933Z
LAST-MODIFIED:20240314T205805Z
UID:10000059-1810234800-1810238400@whbconline.org
SUMMARY:Hearts & Prayers (WOM) meeting
DESCRIPTION:Meet by Zoom.
URL:https://whbconline.org/event/hearts-prayers-meeting/2027-05-13/
CATEGORIES:Women On Mission
END:VEVENT
BEGIN:VEVENT
DTSTART;TZID=America/New_York:20270516T091500
DTEND;TZID=America/New_York:20270516T101500
DTSTAMP:20260424T210919
CREATED:20220512T213410Z
LAST-MODIFIED:20220512T213410Z
UID:10001967-1810458900-1810462500@whbconline.org
SUMMARY:Adult Bible Study & Sunday School
DESCRIPTION:Please see the Prayer List for class information.
URL:https://whbconline.org/event/adult-bible-study-sunday-school/2027-05-16/
END:VEVENT
END:VCALENDAR